BEGIN:VCALENDAR
VERSION:2.0
PRODID:-//Lizzard Outdoor - ECPv6.11.2.1//NONSGML v1.0//EN
CALSCALE:GREGORIAN
METHOD:PUBLISH
X-WR-CALNAME:Lizzard Outdoor
X-ORIGINAL-URL:https://www.lizzard.hu
X-WR-CALDESC:Events for Lizzard Outdoor
REFRESH-INTERVAL;VALUE=DURATION:PT1H
X-Robots-Tag:noindex
X-PUBLISHED-TTL:PT1H
BEGIN:VTIMEZONE
TZID:UTC
BEGIN:STANDARD
TZOFFSETFROM:+0000
TZOFFSETTO:+0000
TZNAME:UTC
DTSTART:20260101T000000
END:STANDARD
END:VTIMEZONE
BEGIN:VEVENT
DTSTART;VALUE=DATE:20260501
DTEND;VALUE=DATE:20260505
DTSTAMP:20260424T123130
CREATED:20250816T142709Z
LAST-MODIFIED:20260225T185248Z
UID:4825-1777593600-1777939199@www.lizzard.hu
SUMMARY:Szerbia - Tara Nemzeti Park (várólista)
DESCRIPTION:Méltatlanul elhanyagolt déli szomszédunknál még sosem jártunk\, úgyhogy ez a csorba nem lesz csorba többé októbert követően. A szerb-bosnyák határ mentén folydogál a Drina folyó\, amely a Tara hegységet szeli ketté szépen kanyarogva. Négy nap alatt meglessük a szurdokvölgyeket fentről és lentről is\, meglátogatjuk Bajna Basta városát\, az ikonikus folyóra épített házikójával és megállunk egy rövid pihenőre Belgrádban is ha már arra járunk. A természeti szépségek mellett lesz itt kultúrsokk is rendesen\, szóval tárazzátok be a fényképezőgépeket és kalandvágyat\, aztán kezdjetek pakolni mert jöttök velünk Szerbiába! \n\n				\n	\n\n  \n\nJELENTKEZÉS» \n\nMOCSKOS ANYAGIAK\n\n\n\nEGYESÜLETI TAGOKNAK\nÚJ HARCOSOKNAK\n\n\n\n\n30.000 Ft\n35.000 Ft\n\n\n\nEz tartalmazza: \n\nSzállást 3 éjszakára hotelben\nA svédasztalos reggeliket\nAz adókat és egyéb szervezési költségeket\nÚj tagoknak a 2026-os tagdíjat\n\nNem tartalmazza: \n\nA vacsorát és a napközbeni étkezéseket\nAz utazási költséget (telekocsi)\n\nLÉTSZÁMLIMIT\n8 fő \nJELENTKEZÉSI HATÁRIDŐ\n2026. április 16. \nA jelentkezés a részvételi díj befizetésekor válik érvényessé! A jelentkezéstől számított 7 napon belül kérjük a részvételi díjat utald át. Amennyiben az utalás nem történik meg a helyedet átadhatjuk más jelentkezőnek. \nPROGRAM\n1. nap –  Leutazás + Belgrád városnézés» \n2. nap – Crnejskovo kilátó\, Raca Monostor (19 km / 1000 m)» \n3. nap – Banjska Sziklák (13 km / 300 m)» \n4. nap – Veliki Kraj (6 km / 500 m)» \n  \nSZÁLLÁS\nRészletek hamarosan… \nELLÁTÁS\nA szálláson önellátás van\, de mivel jól felszerelt konyha és még tűzrakási és grillezési lehetőség is van\, ez nem okozhat gondot. \nSZÜKSÉGES TAPASZTALAT ÉS ERŐNLÉT\nEz a túra az második nap kivételével nem tartalmaz túl sok kihívást\, itt most a kellemes kikapcsolódásról és a látvány élvezetéről fognak szólni a programok. Átlagos\, túrázáshoz szokott erőnléttel bárki képes teljesíteni. \nFELSZERELÉS\nKényelmes (ha lehet vízálló) túracipő\, túrabakancs\, terepfutócipő. Ezen kívül kis hátizsák\, fej vagy elemlámpa\, időjárásnak és évszaknak megfelelő ruházat tartozik a must-have listához. A részletes ajánlásokat a jelentkezőknek időben elküldjük és ha valami hiányzik\, igyekszünk megoldani. \n \nA túra betelt a jelentkezéseket csak várólistára tudjuk fogadni \n[ninja_form id=69]\n\nKorán – 6:00 – indulunk Budapestről mivel nagy távolságot kell megtennünk. A kora délutáni órákban érkezünk Belgrádba\, ahol lesz 3-4 óránk várost nézni\, és elfogyasztani egy jó plejskavica-t. Innen aztán tovább autózunk még egy másfél órát\, hogy átvegyünk a hegyek között megbúvó full extrás nyaralót\, ami 3 éjszakára a szállásunkként fog funkcionálni. \n\nEzen a napon fogjuk a legnagyobb túránkkat teljesíteni a Raca Monostortól indulva. Rögtön nekivágunk az emelkedőnek amely felvisz a Tara fennsíkra. Innen számos kilátót és még egy monostort érintünk mielőtt átérünk a fennsík másik oldalán álló Kafana Kurta házikóhoz egy kellemes ebédre. Innen aztán a Staza Jerevac patakvölgyet követve sétálunk vissza érintve a Jarevac-tavat.\n\nEzen a napon már jóval nyugisabb lehet a tempó\, szinte csak sétafikálás lesz. Mitrovacból gyalog elsétálunk a Banjska sziklákhoz\, ahonnan majdnem az egész régió belátható a Drina folyóval együtt. Innen egy másik útvonalon körtúraként fejezve be a távot térünk vissza az autókhoz. Délután átmegyünk Bajina Basta-ba\, hogy körülnézzünk a városban\, feltöltsük a szuvenír raktárakat és természetesen hogy megtekintsük a folyóra épített kis házikót. Itt szép kilátás mellett egy vacsorára is juthat idő.\n\nA térség legszebb kilátását ez a hegycsúcs tartogatja\, ugyanis innen lehet belátni a Drina folyó legszűkebb szurdok részébe. Ráadásul az útvonal is tartalmaz izgalmakat\, végig egy csodás szellős gerincen visz a lépés a tetejére. Visszatérve az autókhoz aztán nekivágunk a hazaútnak és könnyes búcsút veszünk egymástól.
URL:https://www.lizzard.hu/event/szerbia-tara-nemzeti-park/
LOCATION:Szerbia\, Serbia
ATTACH;FMTTYPE=image/jpeg:https://www.lizzard.hu/wp-content/uploads/2025/08/weblap-cover.jpg
ORGANIZER;CN="Koczur Rich%C3%A1rd":MAILTO:koczur.richard@lizzard.hu
END:VEVENT
BEGIN:VEVENT
DTSTART;VALUE=DATE:20260516
DTEND;VALUE=DATE:20260518
DTSTAMP:20260424T123130
CREATED:20260312T113855Z
LAST-MODIFIED:20260312T113949Z
UID:5126-1778889600-1779062399@www.lizzard.hu
SUMMARY:Nomád túra a Kelet-Börzsönyben
DESCRIPTION:A tavaly tavaszi szeles\, tavaszi Vértes túránk annyira jól sikerült\, hogy ismét egy hegy tetején fogunk sátrat verni\, mégpedig a Börzsöny kalderájának délkeleti részén. Letkésről indulva kerüljük meg a Nagy-Völgyet és valahol útközben verünk sátrat az egyik lapos\, kopár kiszögellésen\, ahonnan (lehet hogy) még a Dunát is látni. Másnap ugyanúgy Letkésre térünk vissza\, csak ezesetben a Nagy-Völgyön keresztül. Outdoor főzőverseny: részletek a napi programban 😉 \n\n\n				\n	\n\n  \nJELENTKEZÉS» \n\nMOCSKOS ANYAGIAK\n\n\n\nEGYESÜLETI TAGOKNAK\nÚJ HARCOSOKNAK\n\n\n\n\ningyenes\ningyenes\n\n\n\nA túrán való részvétel kivétel nélkül mindenkinek ingyenes! \nLÉTSZÁMLIMIT\n16 fő \nJELENTKEZÉSI HATÁRIDŐ\n2026. május 10. \nPROGRAM\n1. nap – Letkés -  Nagy-Koppány - Széles-hegy (13 km / 650 m)» \n2. nap – Széles-hegy - Nagy-völgy - Letkés (7 km / 0 m - váó)» \nSZÁLLÁS\nSátrakban\, függőágyban\, csillagoség panzió \nELLÁTÁS\nHogy mi? \nSZÜKSÉGES TAPASZTALAT ÉS ERŐNLÉT\nA ránk váró táv és szintkülönbség leküzdése nehéz hátizsákokkal azért fárasztó tud lenni\, ezért nem is javasolnánk\, hogy ezzel a túrával kezd a pályafutásodat. Ha már hozzászoktál az erdei meneteléshez\, akkor viszont biztos hogy élvezni fogod a civilizációtól távol töltött éjszakát. Persze senkit nem akarunk eltántorítani egy kis kihívástól 😉 \nFELSZERELÉS\nSátor\, megfelelő derékalj (lehetőleg minimum 3\,5 cm vastag önfelfújós)\, megfelelő hálózsák (komfort-fok 5 °C vagy kevesebb)\, meleg és réteges öltözet\, túrabakancs\, …ezek a legfontosabbak. A részletes listát az ajánlott felszerelésekről közösen megbeszéljük a résztvevőkkel. \n \n[ninja_form id=70]\n \nLetkésről indulva első állomásunk a Sas-hegy lesz (nem a Nagy-Sashegy\, az más)\, majd a zöld jelzést követve érünk el a Koldús-árok elágazásáig. Innen a piroson felkaptatunk a Nagy-Koppányra\, ahonnan megcsodáljuk a remek kilátást mindenfelé\, aztán visszaereszkedünk kicsit a völgy felé. Végül a Széles hegy emelkedőjén keresztül jutunk el táborhelyünking ahol sátratverünk és jöhetnek a tábortűzön elkészíthető gasztronómiai szerzemények. Itt szervezünk egy kis versenyt: a legkreatívabb / legfinomabb / legelvetemültebb kreációkat értékeljük közösen és egy nyertest hirdetünk\, aki plusz 5 lizzardier ponttal gazdagodik 😉 \n \nA reggeli hamubasült pogácsát felnyargalva a hátunkra\, nincs más hátra csak lesétálni a hegyről. Ezt a Nagy-völgyön keresztül tesszük meg\, patakmederben bukdácsolva. Letkésre visszaérkezvén pedig a megszokott „hol ebédeljünk” kvízjáték következik…
URL:https://www.lizzard.hu/event/nomad-tura-a-kelet-borzsonyben/
LOCATION:Börzsöny\, Magyarország
ATTACH;FMTTYPE=image/jpeg:https://www.lizzard.hu/wp-content/uploads/2024/01/weblap-cover_vertes.jpg
ORGANIZER;CN="Koczur Rich%C3%A1rd":MAILTO:koczur.richard@lizzard.hu
END:VEVENT
BEGIN:VEVENT
DTSTART;VALUE=DATE:20260613
DTEND;VALUE=DATE:20260615
DTSTAMP:20260424T123130
CREATED:20250507T165759Z
LAST-MODIFIED:20260127T190636Z
UID:4650-1781308800-1781481599@www.lizzard.hu
SUMMARY:Ipoly klasszik kajakkal
DESCRIPTION:Hagyományos Ipoly túránkat közkívánatra idén sem hagyhatjuk ki. Idén vízállás függvényében két opció közül választunk majd útvonalban. Az alap terv Ipolyságtól indulva Vámosmikola vagy Ipolytölgyes célállomás\, de lehet az eddig megszokott Tésa-Zebegény is. Az Ipoly vadregényes kanyargása és lassú sebessége tökéletes kezdő evezősöknek is\, ezért semmiképp nem javasoljuk\, hogy azért kihagyd\, mert még sosem eveztél. Kivételesen most csak kajakokkal evezünk\, így mindenki sokkal közvetlenebb kapcsolatot és élményt alakíthat ki a vízzel. A beborulástól nem kell félni\, nagyon stabil és széles kajakokat bérlünk\, ráadásul az Ipoly nem is arról híres\, hogy gyakran borulnak. \n\nJELENTKEZÉS» \n\nMOCSKOS ANYAGIAK\n\n\n\nEGYESÜLETI TAGOKNAK\nÚJ HARCOSOKNAK\n\n\n\n\n31.000 Ft\n36.000 Ft*\n\n\n\nEz tartalmazza: \n\nHajók bérlését\nA hajók szállítását a kiindulópontra és a végpontról vissza\nMinden szükséges felszerelést (mentőmellény\, evezők\, vízhatlan zsákok)\nA szombati bogrács vacsorát\nA szükséges adminisztrációs és szervezési költségeket\n\n* Új harcosoknak az éves egyesületi tagdíjat \nNem tartalmazza: \n\nAz utazást (ezt telekocsikkal oldjuk meg)\nA további étkezéseket\n\n[columns] [span6] \nLÉTSZÁMLIMIT\n12 fő \n[/span6][span6] \nJELENTKEZÉSI HATÁRIDŐ\n2026. május 29. \n[/span6][/columns]\nA jelentkezés a részvételi díj befizetésekor válik érvényessé! A jelentkezéstől számított 7 napon belül kérjük a részvételi díjat utald át. Amennyiben az utalás nem történik meg a helyedet átadhatjuk más jelentkezőnek. \nPROGRAM\nA program az időjárástól\, vízállástól és a logisztika megoldhatóságától függően változhat (B opció: Szete – Zebegény) \n1. nap - Ipolyság - Szete (19 fkm)» \n2. nap - Szete - Ipolytölgyes (21 fkm)» \nSZÁLLÁS\nSzetén a polgármesteri hivatal mögötti kemping placcon sátrakban fogunk aludni. Ha nincs saját sátrad ne tántorítson el\, egyrészt tudunk korlátozott számban kölcsön is adni\, illetve mindig vannak akiknél van szabad hely a saját sátrában. \nELLÁTÁS\nSzombaton közösen bográcsvacsorát főzünk\, amelyhez a hozzávalókat tartalmazza a részvételi díj\, így azzal nem kell foglalkoznod. A napközbeni további étkezéseket azonban magadnak kell majd megoldani. Ebben nagy segítségedre lehetnek különböző szendvicsek\, csoki és müzliszeletek\, illetve gázfőzőn könnyedén is gyorsan melegíthető konzerv illetve zacskós gyorskaják 😉 \nSZÜKSÉGES TAPASZTALAT ÉS ERŐNLÉT\nKét nap alatt több mint 40 folyami kilométert fogunk evezni\, ami nem kevés\, ámbár nem is olyan sok\, hogy bármilyen egészséges ember ne tudná teljesíteni. Természetesen kellemesen el fogsz fáradni\, de ez mindenkire igaz lesz. A túrán mindenki saját felelősségére vesz részt\, képzett vízi túravezető nem kíséri a csapatot! \nFELSZERELÉS\nA vízreszálláshoz minden szükséges felszerelést kapunk majd\, ám nem árt készülni saját vízálló zsákokkal és/vagy szemeteszsákkal is. A sátor\, hálózsák\, derékalj (vagy függőágy) mindenképp must have\, de ezekből tudunk adni ha nincs\, mert nekünk van több (korlátozott számban). \n \n[ninja_form id=58]\n\nEzen a szakaszon hol mezőkön\, hol erdőben halad az Ipoly. Egy duzzasztónál kell átemelni a hajókat\, ezen kívül végig kényelmesen evezhető\, akár több pihenőhellyel is. A táborhelyünk Szetén a polgármesteri hivatal mögött lesz\, ahol kialakított stég\, padok\, és sátorhelyek is vannak. Este bográcsozunk\, társasozunk és élvezzük egymás társaságát 🙂\n\nVasárnap ahogy a nap cirógatja reggelizés után a bőrünket összepakoljuk a cuccainkat\, felnyergeljük a hajókat és ismét vízre pattanunk. Ezen a szakaszon több helyen is alacsony vízállásnál látszik a kavicsos meder és előfordulhat hogy rövidebb szakaszokon át kell tolni a hajókat. Ez a kajakokkal jóval kisebb eséllyel következik be mint a kenukkal\, de nem kizárható. Viszont az Ipoly vize nagyon tiszta (ha nincs áradás) és kellemesen pancsizható\, így ezeket a kiszállásokat össze lehet kötni egy kis ücsörgéssel\, sörözéssel és kajálással a vízben.
URL:https://www.lizzard.hu/event/ipoly-klasszik-kajakkal/
LOCATION:Börzsöny\, Magyarország
CATEGORIES:Vízitúra
ATTACH;FMTTYPE=image/jpeg:https://www.lizzard.hu/wp-content/uploads/2025/05/weblap-cover.jpg
ORGANIZER;CN="Koczur Rich%C3%A1rd":MAILTO:koczur.richard@lizzard.hu
END:VEVENT
END:VCALENDAR